BEGIN:VCALENDAR
VERSION:2.0
PRODID:-//hacksw/handcal//NONSGML v1.0//EN
CALSCALE:GREGORIAN
METHOD:PUBLISH
BEGIN:VEVENT
STATUS:CONFIRMED
SEQUENCE:0
UID:0b3e0a66d0e4380da32476296afcf7d6
SUMMARY:Caminos de vida. Ruta «Un nuevo paseo por el barrio del padrón»
LOCATION:Centres de Salut Mental Ferran Salsas i Roig de Rubí
DESCRIPTION:Caminos de vida. Ruta «Un nuevo paseo por el barrio del padrón»
DTSTART:20260503T40211
DTEND:20260503T60211
DTSTAMP:20260503T40211
END:VEVENT
END:VCALENDAR