BEGIN:VCALENDAR
VERSION:2.0
PRODID:-//hacksw/handcal//NONSGML v1.0//EN
CALSCALE:GREGORIAN
METHOD:PUBLISH
BEGIN:VEVENT
STATUS:CONFIRMED
SEQUENCE:0
UID:d1075ff2b2ff966bc3ce3c09d4bac0c5
SUMMARY:Camins de vida. Ruta “Una nova passejada pel barri del padró”
LOCATION:Centres de Salut Mental Ferran Salsas i Roig de Rubí
DESCRIPTION:Camins de vida. Ruta “Una nova passejada pel barri del padró”
DTSTART:20260503T133602
DTEND:20260503T153602
DTSTAMP:20260503T133602
END:VEVENT
END:VCALENDAR