BEGIN:VCALENDAR
VERSION:2.0
PRODID:-//hacksw/handcal//NONSGML v1.0//EN
CALSCALE:GREGORIAN
METHOD:PUBLISH
BEGIN:VEVENT
STATUS:CONFIRMED
SEQUENCE:0
UID:28544f6fad67836ff72d05ab5e5029f0
SUMMARY:CAP Sant Llàtzer . Grupo de Técnicas para la gestión de la ansiedad y el estrés
LOCATION:CAP Sant Llàtzer. Carrer de la Riba, 62, 08221 Terrassa, Barcelona
DESCRIPTION:CAP Sant Llàtzer . Grupo de Técnicas para la gestión de la ansiedad y el estrés
DTSTART:20230206T164216
DTEND:20230206T184216
DTSTAMP:20230206T164216
END:VEVENT
END:VCALENDAR