BEGIN:VCALENDAR
VERSION:2.0
PRODID:-//hacksw/handcal//NONSGML v1.0//EN
CALSCALE:GREGORIAN
METHOD:PUBLISH
BEGIN:VEVENT
STATUS:CONFIRMED
SEQUENCE:0
UID:9f1bdf5a34fd38e572507ee598ed1d84
SUMMARY:Cicle de xerrades participatives. “Dones en diàleg: Salut i benestar”
LOCATION:EUIT Centre Universitari - Aula 10
DESCRIPTION:Cicle de xerrades participatives. “Dones en diàleg: Salut i benestar”
DTSTART:20251106T135447
DTEND:20251106T155447
DTSTAMP:20251106T135447
END:VEVENT
END:VCALENDAR