BEGIN:VCALENDAR
VERSION:2.0
PRODID:-//hacksw/handcal//NONSGML v1.0//EN
CALSCALE:GREGORIAN
METHOD:PUBLISH
BEGIN:VEVENT
STATUS:CONFIRMED
SEQUENCE:0
UID:f2b6a72a10c3d4a4105f8c7ba7e294af
SUMMARY:Jornada de presentación «CST Muévete»
LOCATION:Hospital Universitari de Terrassa. Sala d\'Actes Joan Costa Roma
DESCRIPTION:Jornada de presentación «CST Muévete»
DTSTART:20250610T70002
DTEND:20250610T90002
DTSTAMP:20250610T70002
END:VEVENT
END:VCALENDAR