BEGIN:VCALENDAR
VERSION:2.0
PRODID:-//hacksw/handcal//NONSGML v1.0//EN
CALSCALE:GREGORIAN
METHOD:PUBLISH
BEGIN:VEVENT
STATUS:CONFIRMED
SEQUENCE:0
UID:a32881e84d7efe0dbe1a8cb7bc3bff50
SUMMARY:Xerrada. “La importància de l’alimentació per un envelliment saludable”
LOCATION:Museu Vallhonrat de Rubí
DESCRIPTION:Xerrada. “La importància de l’alimentació per un envelliment saludable”
DTSTART:20230518T101009
DTEND:20230518T121009
DTSTAMP:20230518T101009
END:VEVENT
END:VCALENDAR