BEGIN:VCALENDAR
VERSION:2.0
PRODID:-//hacksw/handcal//NONSGML v1.0//EN
CALSCALE:GREGORIAN
METHOD:PUBLISH
BEGIN:VEVENT
STATUS:CONFIRMED
SEQUENCE:0
UID:60347cbc427ddd6753d418e3da678e26
SUMMARY:Programa Salud   Años. «El placer de comer bien»
LOCATION:Casal Cívic i Comunitari Sant Pere Nord - Terrassa
DESCRIPTION:Programa Salud   Años. «El placer de comer bien»
DTSTART:20241218T101206
DTEND:20241218T121206
DTSTAMP:20241218T101206
END:VEVENT
END:VCALENDAR