BEGIN:VCALENDAR
VERSION:2.0
PRODID:-//hacksw/handcal//NONSGML v1.0//EN
CALSCALE:GREGORIAN
METHOD:PUBLISH
BEGIN:VEVENT
STATUS:CONFIRMED
SEQUENCE:0
UID:18bcd0ba561e0d0f7597f31aee384e5b
SUMMARY:Hablamos de salud en el barrio. Remedios naturales: Ciencia y ficción
LOCATION:Biblioteca Districte 2 -Terrassa-
DESCRIPTION:Hablamos de salud en el barrio. Remedios naturales: Ciencia y ficción
DTSTART:20230419T82145
DTEND:20230419T102145
DTSTAMP:20230419T82145
END:VEVENT
END:VCALENDAR