BEGIN:VCALENDAR
VERSION:2.0
PRODID:-//hacksw/handcal//NONSGML v1.0//EN
CALSCALE:GREGORIAN
METHOD:PUBLISH
BEGIN:VEVENT
STATUS:CONFIRMED
SEQUENCE:0
UID:3730c9d9f7ae64ad64dcd417b96e30e7
SUMMARY:Diada de Sant Jordi en el CAP Terrassa Nord
LOCATION:CAP Terrassa Nord - C/ 25 de setembre, 26
DESCRIPTION:Diada de Sant Jordi en el CAP Terrassa Nord
DTSTART:20260423T83719
DTEND:20260423T103719
DTSTAMP:20260423T83719
END:VEVENT
END:VCALENDAR