BEGIN:VCALENDAR
VERSION:2.0
PRODID:-//hacksw/handcal//NONSGML v1.0//EN
CALSCALE:GREGORIAN
METHOD:PUBLISH
BEGIN:VEVENT
STATUS:CONFIRMED
SEQUENCE:0
UID:a5a8e5d03c6b42f0fb5bda551cc758ab
SUMMARY:Programa Salut   Anys. “Com omplir el cistell: bo, sa i econòmic”
LOCATION:Casal Cívic i Comunitari Terrassa - Sant Pere Nord
DESCRIPTION:Programa Salut   Anys. “Com omplir el cistell: bo, sa i econòmic”
DTSTART:20221026T190113
DTEND:20221026T210113
DTSTAMP:20221026T190113
END:VEVENT
END:VCALENDAR