BEGIN:VCALENDAR
VERSION:2.0
PRODID:-//hacksw/handcal//NONSGML v1.0//EN
CALSCALE:GREGORIAN
METHOD:PUBLISH
BEGIN:VEVENT
STATUS:CONFIRMED
SEQUENCE:0
UID:2f6785f88566a860f76a4436981bea57
SUMMARY:Sesión final para pacientes con Covid persistente.
LOCATION:Hospital Universitari de Terrassa. Sala d\'actes Joan Costa Roma 
DESCRIPTION:Sesión final para pacientes con Covid persistente.
DTSTART:20260427T41314
DTEND:20260427T61314
DTSTAMP:20260427T41314
END:VEVENT
END:VCALENDAR