BEGIN:VCALENDAR
VERSION:2.0
PRODID:-//hacksw/handcal//NONSGML v1.0//EN
CALSCALE:GREGORIAN
METHOD:PUBLISH
BEGIN:VEVENT
STATUS:CONFIRMED
SEQUENCE:0
UID:60b151d6312366946a985f7b12e5a4e4
SUMMARY:Sessió final per a pacients amb Covid persistent.
LOCATION:Hospital Universitari de Terrassa. Sala d\'actes Joan Costa Roma 
DESCRIPTION:Sessió final per a pacients amb Covid persistent.
DTSTART:20260427T133951
DTEND:20260427T153951
DTSTAMP:20260427T133951
END:VEVENT
END:VCALENDAR